Workbook

Sheet PM2.5_socioeconomic
A1: City | B1: beta_Popden | C1: beta_PGDP | D1: beta_Prosec | E1: beta_Energy | F1: beta_Roadden | G1: beta_NDVI | H1: se_Popden | I1: se_PGDP | J1: se_Prosec | K1: se_Energy | L1: se_Roadden | M1: se_NDVI | N1: t_Popden | O1: t_PGDP | P1: t_Prosec | Q1: t_Energy | R1: t_Roadden | S1: t_NDVI | T1: p_Popden | U1: p_PGDP | V1: p_Prosec | W1: p_Energy | X1: p_Roadden | Y1: p_NDVI
A2: Da Hinggan Ling Mountains | B2: 0.56871172 | C2: -0.095704284 | D2: 0.079624673 | E2: 0.0248466 | F2: -0.086901295 | G2: -0.06653629 | H2: 0.11104789 | I2: 0.098092954 | J2: 0.045349817 | K2: 0.041663174 | L2: 0.063507552 | M2: 0.067350981 | N2: 5.1213195 | O2: -0.97564891 | P2: 1.7557882 | Q2: 0.59636839 | R2: -1.3683616 | S2: -0.9879038 | T2: 5.1221612e-07 | U2: 0.32994037 | V2: 0.080035723 | W2: 0.55133072 | X2: 0.17211319 | Y2: 0.32391063
A3: Heihe | B3: 0.56952824 | C3: -0.099475479 | D3: 0.10771575 | E3: 0.024729503 | F3: -0.091171137 | G3: -0.068501316 | H3: 0.11081294 | I3: 0.097277852 | J3: 0.051740685 | K3: 0.041546945 | L3: 0.063180788 | M3: 0.067614048 | N3: 5.1395464 | O3: -1.0225912 | P3: 2.0818384 | Q3: 0.59521833 | R3: -1.4430199 | S3: -1.0131225 | T3: 4.6823105e-07 | U3: 0.30723683 | V3: 0.03811371 | W3: 0.5520982 | X3: 0.14994646 | Y3: 0.31173062
A4: Yichun | B4: 0.56858238 | C4: -0.1023695 | D4: 0.11702754 | E4: 0.024595839 | F4: -0.092785474 | G4: -0.071672099 | H4: 0.11145271 | I4: 0.096696344 | J4: 0.053933548 | K4: 0.041538204 | L4: 0.063060292 | M4: 0.067691946 | N4: 5.1015574 | O4: -1.0586698 | P4: 2.1698469 | Q4: 0.59212573 | R4: -1.4713772 | S4: -1.058798 | T4: 5.6442544e-07 | U4: 0.29051068 | V4: 0.030718803 | W4: 0.55416463 | X4: 0.14212508 | Y4: 0.29045234
A5: Hulunbuir | B5: 0.56556762 | C5: -0.10529172 | D5: 0.08820526 | E5: 0.02456091 | F5: -0.088860527 | G5: -0.063209802 | H5: 0.10968523 | I5: 0.096748466 | J5: 0.04723066 | K5: 0.041502776 | L5: 0.063385149 | M5: 0.067639726 | N5: 5.156279 | O5: -1.0883038 | P5: 1.8675424 | Q5: 0.59178956 | R5: -1.401914 | S5: -0.93450708 | T5: 4.3108972e-07 | U5: 0.27724103 | V5: 0.062696337 | W5: 0.55438948 | X5: 0.16186405 | Y5: 0.35071349
A6: Qiqihar | B6: 0.56695012 | C6: -0.10641779 | D6: 0.11140653 | E6: 0.024473856 | F6: -0.092095731 | G6: -0.06582993 | H6: 0.10972316 | I6: 0.096267212 | J6: 0.052598227 | K6: 0.041475766 | L6: 0.063120374 | M6: 0.067739502 | N6: 5.1670962 | O6: -1.1054417 | P6: 2.1180662 | Q6: 0.59007605 | R6: -1.4590492 | S6: -0.97181008 | T6: 4.0861547e-07 | U6: 0.26975914 | V6: 0.034903303 | W6: 0.55553628 | X6: 0.14548577 | Y6: 0.33184411
A7: Hegang | B7: 0.56949846 | C7: -0.10183716 | D7: 0.1183955 | E7: 0.024602328 | F7: -0.093091671 | G7: -0.073663046 | H7: 0.1125507 | I7: 0.096838823 | J7: 0.054235182 | K7: 0.041554186 | L7: 0.063036967 | M7: 0.067701649 | N7: 5.0599283 | O7: -1.051615 | P7: 2.1830018 | Q7: 0.59205415 | R7: -1.476779 | S7: -1.0880539 | T7: 6.9180093e-07 | U7: 0.29373193 | V7: 0.029727352 | W7: 0.5542125 | X7: 0.14067149 | Y7: 0.27735113
A8: Jiamusi | B8: 0.56987038 | C8: -0.10190943 | D8: 0.1196686 | E8: 0.024572494 | F8: -0.09348308 | G8: -0.075797092 | H8: 0.11352768 | I8: 0.096907449 | J8: 0.054497977 | K8: 0.041564271 | L8: 0.063008559 | M8: 0.067738385 | N8: 5.0196601 | O8: -1.0516161 | P8: 2.1958357 | Q8: 0.59119269 | R8: -1.4836569 | S8: -1.1189681 | T8: 8.4124016e-07 | U8: 0.29373144 | V8: 0.028786855 | W8: 0.55478881 | X8: 0.13883739 | Y8: 0.26395305
A9: Altay | B9: 0.43010676 | C9: -0.13161541 | D9: -0.068559215 | E9: 0.033021447 | F9: -0.07450229 | G9: -0.12413981 | H9: 0.074651624 | I9: 0.078638161 | J9: 0.031155983 | K9: 0.040998819 | L9: 0.064053367 | M9: 0.066679943 | N9: 5.7615192 | O9: -1.6736838 | P9: -2.2005152 | Q9: 0.80542435 | R9: -1.1631284 | S9: -1.8617263 | T9: 1.8853153e-08 | U9: 0.095123387 | V9: 0.028450384 | W9: 0.42114444 | X9: 0.24560278 | Y9: 0.063514614
A10: Shuangyashan | B10: 0.56948522 | C10: -0.10395652 | D10: 0.12052501 | E10: 0.024487731 | F10: -0.093892055 | G10: -0.07627806 | H10: 0.11424739 | I10: 0.096570834 | J10: 0.05466249 | K10: 0.041559074 | L10: 0.062979819 | M10: 0.067769507 | N10: 4.9846672 | O10: -1.0764795 | P10: 2.2048943 | Q10: 0.58922706 | R10: -1.4908276 | S10: -1.1255514 | T10: 9.9607915e-07 | U10: 0.28248518 | V10: 0.02813861 | W10: 0.55610492 | X10: 0.13694492 | Y10: 0.2611588
A11: Jixi | B11: 0.56666584 | C11: -0.10710134 | D11: 0.12080468 | E11: 0.024311527 | F11: -0.094533853 | G11: -0.076996307 | H11: 0.11471903 | I11: 0.09619186 | J11: 0.054614899 | K11: 0.041544338 | L11: 0.062935152 | M11: 0.067848725 | N11: 4.9395977 | O11: -1.1134138 | P11: 2.2119363 | Q11: 0.58519471 | R11: -1.5020835 | S11: -1.1348232 | T11: 1.2365021e-06 | U11: 0.26632664 | V11: 0.027643444 | W11: 0.55880959 | X11: 0.13401474 | Y11: 0.25725831
A12: Qitaihe | B12: 0.56741054 | C12: -0.10757326 | D12: 0.12029323 | E12: 0.024333537 | F12: -0.09428934 | G12: -0.075210179 | H12: 0.11438593 | I12: 0.095988603 | J12: 0.054502091 | K12: 0.041531907 | L12: 0.062952437 | M12: 0.067813339 | N12: 4.9604923 | O12: -1.1206879 | P12: 2.2071306 | Q12: 0.58589981 | R12: -1.497787 | S12: -1.1090765 | T12: 1.118783e-06 | U12: 0.2632211 | V12: 0.027980537 | W12: 0.55833618 | X12: 0.13512744 | Y12: 0.26819037
A13: Daqing | B13: 0.56390687 | C13: -0.11365927 | D13: 0.11651983 | E13: 0.02427601 | F13: -0.093350028 | G13: -0.06653459 | H13: 0.11000782 | I13: 0.095058738 | J13: 0.053762203 | K13: 0.041455424 | L13: 0.063027687 | M13: 0.067827549 | N13: 5.1260615 | O13: -1.1956741 | P13: 2.1673187 | Q13: 0.58559309 | R13: -1.4810956 | S13: -0.98093756 | T13: 5.0040211e-07 | U13: 0.23266693 | V13: 0.03091258 | W13: 0.55854209 | X13: 0.13951823 | Y13: 0.32732931
... A338: Shihezi | B338: 0.4043906 | C338: -0.20712372 | D338: -0.072796782 | E338: 0.037264589 | F338: -0.07996281 | G338: -0.13009016 | H338: 0.074417035 | I338: 0.076515094 | J338: 0.031283218 | K338: 0.041434496 | L338: 0.064116755 | M338: 0.066525533 | N338: 5.4341134 | O338: -2.7069655 | P338: -2.3270234 | Q338: 0.89936147 | R338: -1.2471437 | S338: -1.9554922 | T338: 1.0598156e-07 | U338: 0.0071370757 | V338: 0.020557879 | W338: 0.36910424 | X338: 0.2132134 | Y338: 0.051353551

Sheet Summary
A1: Factor | B1: Mean (beta) | C1: SD sample (beta) | D1: Min (beta) | E1: Median (beta) | F1: Max (beta) | G1: Significant p<0.05, beta>0 (n) | H1: Significant p<0.05, beta<0 (n) | I1: Paper Table 6 mean | J1: Difference (our mean minus paper)
A2: Popden | B2: =AVERAGE('PM2.5_socioeconomic'!B2:B338) -> 0.43959287 | C2: =_xlfn.STDEV.S('PM2.5_socioeconomic'!B2:B338) -> 0.20295855 | D2: =MIN('PM2.5_socioeconomic'!B2:B338) -> -0.0088122006 | E2: =MEDIAN('PM2.5_socioeconomic'!B2:B338) -> 0.38871771 | F2: =MAX('PM2.5_socioeconomic'!B2:B338) -> 1.0897452 | G2: =COUNTIFS('PM2.5_socioeconomic'!T2:T338,"<0.05",'PM2.5_socioeconomic'!B2:B338,">0") -> 263 | H2: =COUNTIFS('PM2.5_socioeconomic'!T2:T338,"<0.05",'PM2.5_socioeconomic'!B2:B338,"<0") -> 0 | I2: 0.44 | J2: =B2-I2 -> -0.00040713358
A3: PGDP | B3: =AVERAGE('PM2.5_socioeconomic'!C2:C338) -> -0.04059584 | C3: =_xlfn.STDEV.S('PM2.5_socioeconomic'!C2:C338) -> 0.14793655 | D3: =MIN('PM2.5_socioeconomic'!C2:C338) -> -0.43596501 | E3: =MEDIAN('PM2.5_socioeconomic'!C2:C338) -> -0.056473762 | F3: =MAX('PM2.5_socioeconomic'!C2:C338) -> 0.30659547 | G3: =COUNTIFS('PM2.5_socioeconomic'!U2:U338,"<0.05",'PM2.5_socioeconomic'!C2:C338,">0") -> 26 | H3: =COUNTIFS('PM2.5_socioeconomic'!U2:U338,"<0.05",'PM2.5_socioeconomic'!C2:C338,"<0") -> 48 | I3: -0.041 | J3: =B3-I3 -> 0.00040416003
A4: Prosec | B4: =AVERAGE('PM2.5_socioeconomic'!D2:D338) -> 0.084240647 | C4: =_xlfn.STDEV.S('PM2.5_socioeconomic'!D2:D338) -> 0.049272278 | D4: =MIN('PM2.5_socioeconomic'!D2:D338) -> -0.082253305 | E4: =MEDIAN('PM2.5_socioeconomic'!D2:D338) -> 0.10323245 | F4: =MAX('PM2.5_socioeconomic'!D2:D338) -> 0.12080468 | G4: =COUNTIFS('PM2.5_socioeconomic'!V2:V338,"<0.05",'PM2.5_socioeconomic'!D2:D338,">0") -> 166 | H4: =COUNTIFS('PM2.5_socioeconomic'!V2:V338,"<0.05",'PM2.5_socioeconomic'!D2:D338,"<0") -> 16 | I4: 0.084 | J4: =B4-I4 -> 0.00024064731
A5: Energy | B5: =AVERAGE('PM2.5_socioeconomic'!E2:E338) -> 0.020651233 | C5: =_xlfn.STDEV.S('PM2.5_socioeconomic'!E2:E338) -> 0.0050616416 | D5: =MIN('PM2.5_socioeconomic'!E2:E338) -> 0.014094373 | E5: =MEDIAN('PM2.5_socioeconomic'!E2:E338) -> 0.019618666 | F5: =MAX('PM2.5_socioeconomic'!E2:E338) -> 0.0438577 | G5: =COUNTIFS('PM2.5_socioeconomic'!W2:W338,"<0.05",'PM2.5_socioeconomic'!E2:E338,">0") -> 0 | H5: =COUNTIFS('PM2.5_socioeconomic'!W2:W338,"<0.05",'PM2.5_socioeconomic'!E2:E338,"<0") -> 0 | I5: 0.021 | J5: =B5-I5 -> -0.00034876717
A6: Roadden | B6: =AVERAGE('PM2.5_socioeconomic'!F2:F338) -> -0.10181387 | C6: =_xlfn.STDEV.S('PM2.5_socioeconomic'!F2:F338) -> 0.0056957471 | D6: =MIN('PM2.5_socioeconomic'!F2:F338) -> -0.10922563 | E6: =MEDIAN('PM2.5_socioeconomic'!F2:F338) -> -0.10292283 | F6: =MAX('PM2.5_socioeconomic'!F2:F338) -> -0.07450229 | G6: =COUNTIFS('PM2.5_socioeconomic'!X2:X338,"<0.05",'PM2.5_socioeconomic'!F2:F338,">0") -> 0 | H6: =COUNTIFS('PM2.5_socioeconomic'!X2:X338,"<0.05",'PM2.5_socioeconomic'!F2:F338,"<0") -> 0 | I6: -0.102 | J6: =B6-I6 -> 0.00018612555
A7: NDVI | B7: =AVERAGE('PM2.5_socioeconomic'!G2:G338) -> -0.031148981 | C7: =_xlfn.STDEV.S('PM2.5_socioeconomic'!G2:G338) -> 0.03578455 | D7: =MIN('PM2.5_socioeconomic'!G2:G338) -> -0.14389331 | E7: =MEDIAN('PM2.5_socioeconomic'!G2:G338) -> -0.023813944 | F7: =MAX('PM2.5_socioeconomic'!G2:G338) -> 0.015681841 | G7: =COUNTIFS('PM2.5_socioeconomic'!Y2:Y338,"<0.05",'PM2.5_socioeconomic'!G2:G338,">0") -> 0 | H7: =COUNTIFS('PM2.5_socioeconomic'!Y2:Y338,"<0.05",'PM2.5_socioeconomic'!G2:G338,"<0") -> 8 | I7: -0.031 | J7: =B7-I7 -> -0.00014898101
